BEGIN:VCALENDAR
VERSION:2.0
PRODID:-//Disability Rights Texas - ECPv6.15.20//NONSGML v1.0//EN
CALSCALE:GREGORIAN
METHOD:PUBLISH
X-ORIGINAL-URL:https://drtx.chwebdev.com
X-WR-CALDESC:Events for Disability Rights Texas
REFRESH-INTERVAL;VALUE=DURATION:PT1H
X-Robots-Tag:noindex
X-PUBLISHED-TTL:PT1H
BEGIN:VTIMEZONE
TZID:America/Chicago
BEGIN:DAYLIGHT
TZOFFSETFROM:-0600
TZOFFSETTO:-0500
TZNAME:CDT
DTSTART:20210314T080000
END:DAYLIGHT
BEGIN:STANDARD
TZOFFSETFROM:-0500
TZOFFSETTO:-0600
TZNAME:CST
DTSTART:20211107T070000
END:STANDARD
BEGIN:DAYLIGHT
TZOFFSETFROM:-0600
TZOFFSETTO:-0500
TZNAME:CDT
DTSTART:20220313T080000
END:DAYLIGHT
BEGIN:STANDARD
TZOFFSETFROM:-0500
TZOFFSETTO:-0600
TZNAME:CST
DTSTART:20221106T070000
END:STANDARD
BEGIN:DAYLIGHT
TZOFFSETFROM:-0600
TZOFFSETTO:-0500
TZNAME:CDT
DTSTART:20230312T080000
END:DAYLIGHT
BEGIN:STANDARD
TZOFFSETFROM:-0500
TZOFFSETTO:-0600
TZNAME:CST
DTSTART:20231105T070000
END:STANDARD
END:VTIMEZONE
BEGIN:VEVENT
DTSTART;VALUE=DATE:20220301
DTEND;VALUE=DATE:20220302
DTSTAMP:20260424T114802
CREATED:20220321T151602Z
LAST-MODIFIED:20220321T151602Z
UID:9226-1646092800-1646179199@drtx.chwebdev.com
SUMMARY:DD Awareness Month
DESCRIPTION:Developmental Disabilities (DD) Awareness Month is celebrated every year in March.
URL:https://drtx.chwebdev.com/en/event/dd-awareness-month/
LOCATION:TX
END:VEVENT
BEGIN:VEVENT
DTSTART;TZID=America/Chicago:20220315T190000
DTEND;TZID=America/Chicago:20220315T200000
DTSTAMP:20260424T114802
CREATED:20220310T171814Z
LAST-MODIFIED:20220310T171814Z
UID:9146-1647370800-1647374400@drtx.chwebdev.com
SUMMARY:East Texas Housing Rights & Resources
DESCRIPTION:Please join us for a short webinar on housing rights and resources in East Texas. Learn about your rights under the CARES Act and tools you can use to help avoid eviction. \nAttorneys and advocates will be available to answer questions and chat one-on-one after the presentation. \nResources are free and documentation is not required.
URL:https://drtx.chwebdev.com/en/event/east-texas-housing-rights-resources/
LOCATION:Online
END:VEVENT
BEGIN:VEVENT
DTSTART;VALUE=DATE:20220319
DTEND;VALUE=DATE:20220320
DTSTAMP:20260424T114802
CREATED:20220317T160213Z
LAST-MODIFIED:20220317T160213Z
UID:9169-1647648000-1647734399@drtx.chwebdev.com
SUMMARY:Exhibit: Community Wellness Fair (Fort Worth)
DESCRIPTION:DRTx will host an exhibit table at the Community Wellness Fair. Stop by and learn more about DRTx!
URL:https://drtx.chwebdev.com/en/event/visit-our-table-community-wellness-fair-fort-worth/
LOCATION:Community Wellness Fair\, 1634 E. Vickery Blvd.\, Fort Worth\, 76104
END:VEVENT
BEGIN:VEVENT
DTSTART;TZID=America/Chicago:20220322T180000
DTEND;TZID=America/Chicago:20220322T200000
DTSTAMP:20260424T114802
CREATED:20220321T144534Z
LAST-MODIFIED:20220321T144534Z
UID:9193-1647972000-1647979200@drtx.chwebdev.com
SUMMARY:Exhibit: DD Awareness Health Fair (San Antonio)
DESCRIPTION:DRTx will host an exhibit table at the Developmental Disabilities (DD) Awareness Health Fair. Stop by and learn more about DRTx!
URL:https://drtx.chwebdev.com/en/event/exhibit-dd-awareness-health-fair-san-antonio/
LOCATION:Developmental Disabilities Awareness Health Fair\, 5215 UTSA Boulevard\, San Antonio\, TX\, 78249\, United States
END:VEVENT
BEGIN:VEVENT
DTSTART;TZID=America/Chicago:20220324T110000
DTEND;TZID=America/Chicago:20220324T140000
DTSTAMP:20260424T114802
CREATED:20220321T144844Z
LAST-MODIFIED:20220321T144844Z
UID:9196-1648119600-1648130400@drtx.chwebdev.com
SUMMARY:Exhibit: Northwest Senior Center Health Fair (Corpus Christi)
DESCRIPTION:DRTx will host an exhibit table at the Northwest Senior Center Health Fair. Stop by and learn more about DRTx!
URL:https://drtx.chwebdev.com/en/event/exhibit-northwest-senior-center-health-fair-corpus-christi/
LOCATION:Northwest Senior Center Health Fair\, 9725 Up River Rd.\, Corpus Christi\, TX\, 78410\, United States
END:VEVENT
BEGIN:VEVENT
DTSTART;TZID=America/Chicago:20220326T100000
DTEND;TZID=America/Chicago:20220326T130000
DTSTAMP:20260424T114802
CREATED:20220321T145843Z
LAST-MODIFIED:20220321T145843Z
UID:9208-1648288800-1648299600@drtx.chwebdev.com
SUMMARY:Exhibit: Mt. Hebron Missionary Baptist Church (Henderson)
DESCRIPTION:DRTx will host an exhibit table at the Mt. Hebron Missionary Baptist Church. Stop by and learn more about DRTx!
URL:https://drtx.chwebdev.com/en/event/exhibit-mt-hebron-missionary-baptist-church-henderson/
LOCATION:Mt. Hebron Missionary Baptist Church\, 611 Martin Luther King Drive\, Henderson\, TX\, 75654\, United States
END:VEVENT
BEGIN:VEVENT
DTSTART;TZID=America/Chicago:20220326T100000
DTEND;TZID=America/Chicago:20220326T140000
DTSTAMP:20260424T114802
CREATED:20220321T150024Z
LAST-MODIFIED:20220321T150024Z
UID:9211-1648288800-1648303200@drtx.chwebdev.com
SUMMARY:Exhibit: Dale Chapel Baptist Church (Tyler)
DESCRIPTION:DRTx will host an exhibit table at the Dale Chapel Baptist Church. Stop by and learn more about DRTx!
URL:https://drtx.chwebdev.com/en/event/exhibit-dale-chapel-baptist-church-tyler/
LOCATION:Dale Chapel Baptist Church\, 620 West Glenwood\, Tyler\, TX\, 75701\, United States
END:VEVENT
END:VCALENDAR