BEGIN:VCALENDAR
VERSION:2.0
PRODID:-//Disability Rights Texas - ECPv6.15.20//NONSGML v1.0//EN
CALSCALE:GREGORIAN
METHOD:PUBLISH
X-WR-CALNAME:Disability Rights Texas
X-ORIGINAL-URL:https://drtx.chwebdev.com
X-WR-CALDESC:Events for Disability Rights Texas
REFRESH-INTERVAL;VALUE=DURATION:PT1H
X-Robots-Tag:noindex
X-PUBLISHED-TTL:PT1H
BEGIN:VTIMEZONE
TZID:America/Chicago
BEGIN:DAYLIGHT
TZOFFSETFROM:-0600
TZOFFSETTO:-0500
TZNAME:CDT
DTSTART:20210314T080000
END:DAYLIGHT
BEGIN:STANDARD
TZOFFSETFROM:-0500
TZOFFSETTO:-0600
TZNAME:CST
DTSTART:20211107T070000
END:STANDARD
BEGIN:DAYLIGHT
TZOFFSETFROM:-0600
TZOFFSETTO:-0500
TZNAME:CDT
DTSTART:20220313T080000
END:DAYLIGHT
BEGIN:STANDARD
TZOFFSETFROM:-0500
TZOFFSETTO:-0600
TZNAME:CST
DTSTART:20221106T070000
END:STANDARD
BEGIN:DAYLIGHT
TZOFFSETFROM:-0600
TZOFFSETTO:-0500
TZNAME:CDT
DTSTART:20230312T080000
END:DAYLIGHT
BEGIN:STANDARD
TZOFFSETFROM:-0500
TZOFFSETTO:-0600
TZNAME:CST
DTSTART:20231105T070000
END:STANDARD
END:VTIMEZONE
BEGIN:VEVENT
DTSTART;VALUE=DATE:20220701
DTEND;VALUE=DATE:20220801
DTSTAMP:20260424T053018
CREATED:20220706T112430Z
LAST-MODIFIED:20220706T112430Z
UID:9949-1656633600-1659311999@drtx.chwebdev.com
SUMMARY:Life Without Limits Fundaiser
DESCRIPTION:July 2022 will mark 32 years since the Americans with Disabilities Act (ADA) became law. We’re celebrating the ADA this month with our Life Without Limits t-shirt fundraiser. When you purchase a Life Without Limits t-shirt\, you can raise awareness about disability rights and support our work.
URL:https://drtx.chwebdev.com/en/event/life-without-limits-fundaiser/
LOCATION:TX
ORGANIZER;CN="Disability Rights Texas":MAILTO:info@drtx.org
END:VEVENT
BEGIN:VEVENT
DTSTART;VALUE=DATE:20220709
DTEND;VALUE=DATE:20220710
DTSTAMP:20260424T053018
CREATED:20220516T134200Z
LAST-MODIFIED:20220516T134200Z
UID:9657-1657324800-1657411199@drtx.chwebdev.com
SUMMARY:Autism-Friendly Vaccine Clinic (Houston)
DESCRIPTION:The Autism Society of Texas will offer Sensory-Friendly Vaccine clinics on June 4 and July 9 at Kyo located at 12280 Broadway Street\, Suite 1107\, Pearland\, TX 77584. The vaccines will be provided by Houston Public Health.
URL:https://drtx.chwebdev.com/en/event/autism-friendly-vaccine-clinic-houston-2/
LOCATION:Kyo\, 12280 Broadway Street\, Suite 1107\, Pearland\, TX\, 77584\, United States
END:VEVENT
BEGIN:VEVENT
DTSTART;TZID=America/Chicago:20220713T120000
DTEND;TZID=America/Chicago:20220713T130000
DTSTAMP:20260424T053018
CREATED:20220607T155635Z
LAST-MODIFIED:20220607T155635Z
UID:9730-1657713600-1657717200@drtx.chwebdev.com
SUMMARY:Family Future Planning: Taking the Big Step to Plan (webinar)
DESCRIPTION:It is important for families of individuals with intellectual and developmental disabilities (IDD) to plan for the future\, especially as parents age.  However\, there are barriers that make it difficult to start the dialogue and take the big step to plan. In this session\, you will learn about the importance of future planning and how to break through the barriers and start the conversation. Presenters will discuss what the future planning process looks like and the positive outcomes that can result. This is the first of three sessions in the webinar series. \nAbout the webinar series\nAdults with IDD are living longer and family future planning remains a vital focus. Texas A&M AgriLife Extension Service\, in partnership with the Texas Council for Developmental Disabilities\, will host this webinar as part of their Aging and IDD: Family Future Planning Webinar Series. \nPresenters \n\nTamar Heller\, Ph.D. Distinguished Professor heads the Department of Disability and Human Development\, the University of Illinois at Chicago (UIC) and its University Center of Excellence in Developmental Disabilities.\nKatie Arnold is the Associate Project Director at the Institute on Disability and Human Development at UIC\, Illinois University Center of Excellence in Developmental Disabilities.\n\nAccommodations\nLive transcriptions will be provided for this webinar. If you require additional accommodations to participate\, please contact Morgan Bradley at morgan.bradley@ag.tamu.edu at least four days prior to the event.
URL:https://drtx.chwebdev.com/en/event/family-future-planning-taking-the-big-step-to-plan-webinar/
LOCATION:Zoom
END:VEVENT
BEGIN:VEVENT
DTSTART;VALUE=DATE:20220716
DTEND;VALUE=DATE:20220717
DTSTAMP:20260424T053018
CREATED:20220516T132734Z
LAST-MODIFIED:20220516T132734Z
UID:9643-1657929600-1658015999@drtx.chwebdev.com
SUMMARY:Autism-Friendly Vaccine Clinic (Dallas)
DESCRIPTION:The Autism Society of Texas will offer Sensory-Friendly Vaccine clinics on July 16 and August 13 at the Autism Treatment Center located at 10503 Metric Drive Dallas\, TX 75243. The vaccines will be provided by the Tom Thumb Pharmacy.
URL:https://drtx.chwebdev.com/en/event/autism-friendly-vaccine-clinic-dallas/
LOCATION:Autism Treatment Center\, 10503 Metric Drive\, Dallas\, TX\, 75243\, United States
END:VEVENT
BEGIN:VEVENT
DTSTART;TZID=America/Chicago:20220720T120000
DTEND;TZID=America/Chicago:20220720T130000
DTSTAMP:20260424T053018
CREATED:20220607T160002Z
LAST-MODIFIED:20220607T160002Z
UID:9735-1658318400-1658322000@drtx.chwebdev.com
SUMMARY:Nuts and Bolts of Family Future Planning (webinar)
DESCRIPTION:Planning for the future can seem really overwhelming for families. In this session\, presenters will break it down into manageable steps and discuss the various areas to think about when planning. This will include legal and financial planning\, residential plans\, communication supports\, and building relationships and social support networks. In this webinar\, you will hear one family’s story of planning for the future as they went through the nuts and bolts of the process. Resources for planning will be shared. This is the second of three sessions in the webinar series. \nAbout the webinar series\nAdults with IDD are living longer and family future planning remains a vital focus. Texas A&M AgriLife Extension Service\, in partnership with the Texas Council for Developmental Disabilities\, will host this webinar as part of their Aging and IDD: Family Future Planning Webinar Series. \nPresenters \n\nTamar Heller\, Ph.D. Distinguished Professor heads the Department of Disability and Human Development\, the University of Illinois at Chicago (UIC) and its University Center of Excellence in Developmental Disabilities.\nKatie Arnold is the Associate Project Director at the Institute on Disability and Human Development at UIC\, Illinois University Center of Excellence in Developmental Disabilities.\n\nAccommodations\nLive transcriptions will be provided for this webinar. If you require additional accommodations to participate\, please contact Morgan Bradley at morgan.bradley@ag.tamu.edu at least four days prior to the event.
URL:https://drtx.chwebdev.com/en/event/nuts-and-bolts-of-family-future-planning-webinar/
LOCATION:Zoom
END:VEVENT
BEGIN:VEVENT
DTSTART;TZID=America/Chicago:20220722T100000
DTEND;TZID=America/Chicago:20220722T140000
DTSTAMP:20260424T053018
CREATED:20220617T140807Z
LAST-MODIFIED:20220617T140807Z
UID:9844-1658484000-1658498400@drtx.chwebdev.com
SUMMARY:RISE Center 2022 ADA Celebration (Beaumont)
DESCRIPTION:Join us at The ARC of Greater Beaumont for an event celebrating the 32nd Anniversary of the Americans with Disabilities Act (ADA). \n 
URL:https://drtx.chwebdev.com/en/event/rise-2022-ada-celebration-beaumont/
LOCATION:The Arc of Greater Beaumont\, 4330 Westridge Lane\, Beaumont\, Texas\, 77706
END:VEVENT
BEGIN:VEVENT
DTSTART;VALUE=DATE:20220723
DTEND;VALUE=DATE:20220724
DTSTAMP:20260424T053018
CREATED:20220516T132322Z
LAST-MODIFIED:20220516T132322Z
UID:9639-1658534400-1658620799@drtx.chwebdev.com
SUMMARY:Autism-Friendly Vaccine Clinic (Austin)
DESCRIPTION:The Autism Society of Texas will offer Sensory-Friendly Vaccine clinics on June 18 and July 23 at Spark Learning Center located at 2517 Enfield Road\, Austin\, TX 78703. The vaccines will be provided by Austin Public Health.
URL:https://drtx.chwebdev.com/en/event/autism-friendly-vaccine-clinic-austin-2/
LOCATION:Spark Learning Center\, 2517 Enfield Road\, Austin\, TX\, 78703\, United States
END:VEVENT
BEGIN:VEVENT
DTSTART;TZID=America/Chicago:20220727T120000
DTEND;TZID=America/Chicago:20220727T130000
DTSTAMP:20260424T053018
CREATED:20220607T160349Z
LAST-MODIFIED:20220607T160349Z
UID:9739-1658923200-1658926800@drtx.chwebdev.com
SUMMARY:Engaging with Aging in the Future Planning Process (webinar)
DESCRIPTION:As families plan for the future\, they will be engaging with the aging process as well. All members of the family are aging and with this comes things to consider for future planning. In this webinar\, you will learn about ways to promote the health of the individual with intellectual and developmental disabilities (IDD) as they age\, retirement considerations\, and end of life planning along with supporting grief and loss. Information will be shared about interventions that have been developed to help families with future planning as they age. This is the last of three sessions in the webinar series. \nAbout the webinar series\nAdults with IDD are living longer and family future planning remains a vital focus. Texas A&M AgriLife Extension Service\, in partnership with the Texas Council for Developmental Disabilities\, will host this webinar as part of their Aging and IDD: Family Future Planning Webinar Series. \nPresenters \n\nTamar Heller\, Ph.D. Distinguished Professor heads the Department of Disability and Human Development\, the University of Illinois at Chicago (UIC) and its University Center of Excellence in Developmental Disabilities.\nKatie Arnold is the Associate Project Director at the Institute on Disability and Human Development at UIC\, Illinois University Center of Excellence in Developmental Disabilities.\n\nAccommodations\nLive transcriptions will be provided for this webinar. If you require additional accommodations to participate\, please contact Morgan Bradley at morgan.bradley@ag.tamu.edu at least four days prior to the event.
URL:https://drtx.chwebdev.com/en/event/engaging-with-aging-in-the-future-planning-process-webinar/
LOCATION:Zoom
END:VEVENT
BEGIN:VEVENT
DTSTART;VALUE=DATE:20220729
DTEND;VALUE=DATE:20220801
DTSTAMP:20260424T053018
CREATED:20220310T165934Z
LAST-MODIFIED:20220310T165934Z
UID:9140-1659052800-1659311999@drtx.chwebdev.com
SUMMARY:DRTx Board Meeting
DESCRIPTION:For additional information about meeting locations and agendas\, contact our headquarters in Austin at 512-454-4816.
URL:https://drtx.chwebdev.com/en/event/drtx-board-meeting-2/
LOCATION:TX
END:VEVENT
END:VCALENDAR