BEGIN:VCALENDAR
VERSION:2.0
PRODID:-//Disability Rights Texas - ECPv6.15.20//NONSGML v1.0//EN
CALSCALE:GREGORIAN
METHOD:PUBLISH
X-WR-CALNAME:Disability Rights Texas
X-ORIGINAL-URL:https://drtx.chwebdev.com
X-WR-CALDESC:Events for Disability Rights Texas
REFRESH-INTERVAL;VALUE=DURATION:PT1H
X-Robots-Tag:noindex
X-PUBLISHED-TTL:PT1H
BEGIN:VTIMEZONE
TZID:America/Chicago
BEGIN:DAYLIGHT
TZOFFSETFROM:-0600
TZOFFSETTO:-0500
TZNAME:CDT
DTSTART:20210314T080000
END:DAYLIGHT
BEGIN:STANDARD
TZOFFSETFROM:-0500
TZOFFSETTO:-0600
TZNAME:CST
DTSTART:20211107T070000
END:STANDARD
BEGIN:DAYLIGHT
TZOFFSETFROM:-0600
TZOFFSETTO:-0500
TZNAME:CDT
DTSTART:20220313T080000
END:DAYLIGHT
BEGIN:STANDARD
TZOFFSETFROM:-0500
TZOFFSETTO:-0600
TZNAME:CST
DTSTART:20221106T070000
END:STANDARD
BEGIN:DAYLIGHT
TZOFFSETFROM:-0600
TZOFFSETTO:-0500
TZNAME:CDT
DTSTART:20230312T080000
END:DAYLIGHT
BEGIN:STANDARD
TZOFFSETFROM:-0500
TZOFFSETTO:-0600
TZNAME:CST
DTSTART:20231105T070000
END:STANDARD
END:VTIMEZONE
BEGIN:VEVENT
DTSTART;VALUE=DATE:20220701
DTEND;VALUE=DATE:20220801
DTSTAMP:20260424T035644
CREATED:20220706T112430Z
LAST-MODIFIED:20220706T112430Z
UID:9949-1656633600-1659311999@drtx.chwebdev.com
SUMMARY:Life Without Limits Fundaiser
DESCRIPTION:July 2022 will mark 32 years since the Americans with Disabilities Act (ADA) became law. We’re celebrating the ADA this month with our Life Without Limits t-shirt fundraiser. When you purchase a Life Without Limits t-shirt\, you can raise awareness about disability rights and support our work.
URL:https://drtx.chwebdev.com/en/event/life-without-limits-fundaiser/
LOCATION:TX
ORGANIZER;CN="Disability Rights Texas":MAILTO:info@drtx.org
END:VEVENT
BEGIN:VEVENT
DTSTART;VALUE=DATE:20220729
DTEND;VALUE=DATE:20220801
DTSTAMP:20260424T035644
CREATED:20220310T165934Z
LAST-MODIFIED:20220310T165934Z
UID:9140-1659052800-1659311999@drtx.chwebdev.com
SUMMARY:DRTx Board Meeting
DESCRIPTION:For additional information about meeting locations and agendas\, contact our headquarters in Austin at 512-454-4816.
URL:https://drtx.chwebdev.com/en/event/drtx-board-meeting-2/
LOCATION:TX
END:VEVENT
BEGIN:VEVENT
DTSTART;VALUE=DATE:20220813
DTEND;VALUE=DATE:20220814
DTSTAMP:20260424T035644
CREATED:20220516T133100Z
LAST-MODIFIED:20220516T133100Z
UID:9648-1660348800-1660435199@drtx.chwebdev.com
SUMMARY:Autism-Friendly Vaccine Clinic (Dallas)
DESCRIPTION:The Autism Society of Texas will offer Sensory-Friendly Vaccine clinics on July 16 and August 13 at the Autism Treatment Center located at 10503 Metric Drive Dallas\, TX 75243. The vaccines will be provided by the Tom Thumb Pharmacy.
URL:https://drtx.chwebdev.com/en/event/autism-friendly-vaccine-clinic-dallas-2/
LOCATION:Autism Treatment Center\, 10503 Metric Drive\, Dallas\, TX\, 75243\, United States
END:VEVENT
BEGIN:VEVENT
DTSTART;TZID=America/Chicago:20220817T120000
DTEND;TZID=America/Chicago:20220817T130000
DTSTAMP:20260424T035644
CREATED:20220811T165433Z
LAST-MODIFIED:20220811T165433Z
UID:10248-1660737600-1660741200@drtx.chwebdev.com
SUMMARY:Election Worker & Advocate Training: Accommodating Voters with Disabilities (webinar)
DESCRIPTION:Join Disability Rights Texas and the League of Women Voters of Texas on Wednesday\, August 17 from 12-1 p.m. for a free webinar focused on giving election workers a deep dive into how to support voters with disabilities and the legally required accommodations. Register for the webinar
URL:https://drtx.chwebdev.com/en/event/election-worker-advocate-training-accommodating-voters-with-disabilities-webinar/
LOCATION:Virtual
ORGANIZER;CN="Disability Rights Texas":MAILTO:info@drtx.org
END:VEVENT
BEGIN:VEVENT
DTSTART;TZID=America/Chicago:20220826T120000
DTEND;TZID=America/Chicago:20220826T130000
DTSTAMP:20260424T035644
CREATED:20220811T170902Z
LAST-MODIFIED:20220811T170902Z
UID:10251-1661515200-1661518800@drtx.chwebdev.com
SUMMARY:TRA Webinar: Service Animals and the Law
DESCRIPTION:The Texas Rehabilitation Association’s (TRA) August Lunch and Learn will focus on service animals and the law. Guest speaker Lucia Romano\, Attorney for Disability Rights Texas\, will cover: \n\nRights and Responsibilities of service animal owners\nDifferences between service and support animals\nWhere service and support animals are allowed\nCase studies and success stories\n\nYou do not need to be a TRA member to attend. \nRegister for the webinar
URL:https://drtx.chwebdev.com/en/event/tra-webinar-service-animals-and-the-law/
LOCATION:Virtual
END:VEVENT
END:VCALENDAR