BEGIN:VCALENDAR
VERSION:2.0
PRODID:-//Disability Rights Texas - ECPv6.15.20//NONSGML v1.0//EN
CALSCALE:GREGORIAN
METHOD:PUBLISH
X-ORIGINAL-URL:https://drtx.chwebdev.com
X-WR-CALDESC:Events for Disability Rights Texas
REFRESH-INTERVAL;VALUE=DURATION:PT1H
X-Robots-Tag:noindex
X-PUBLISHED-TTL:PT1H
BEGIN:VTIMEZONE
TZID:America/Chicago
BEGIN:DAYLIGHT
TZOFFSETFROM:-0600
TZOFFSETTO:-0500
TZNAME:CDT
DTSTART:20220313T080000
END:DAYLIGHT
BEGIN:STANDARD
TZOFFSETFROM:-0500
TZOFFSETTO:-0600
TZNAME:CST
DTSTART:20221106T070000
END:STANDARD
BEGIN:DAYLIGHT
TZOFFSETFROM:-0600
TZOFFSETTO:-0500
TZNAME:CDT
DTSTART:20230312T080000
END:DAYLIGHT
BEGIN:STANDARD
TZOFFSETFROM:-0500
TZOFFSETTO:-0600
TZNAME:CST
DTSTART:20231105T070000
END:STANDARD
BEGIN:DAYLIGHT
TZOFFSETFROM:-0600
TZOFFSETTO:-0500
TZNAME:CDT
DTSTART:20240310T080000
END:DAYLIGHT
BEGIN:STANDARD
TZOFFSETFROM:-0500
TZOFFSETTO:-0600
TZNAME:CST
DTSTART:20241103T070000
END:STANDARD
END:VTIMEZONE
BEGIN:VEVENT
DTSTART;TZID=America/Chicago:20230304T090000
DTEND;TZID=America/Chicago:20230304T120000
DTSTAMP:20260423T172401
CREATED:20230207T165924Z
LAST-MODIFIED:20230207T165924Z
UID:11231-1677920400-1677931200@drtx.chwebdev.com
SUMMARY:We’re Exhibiting at the UT Health Community Fair (Brownsville)
DESCRIPTION:DRTx will host an exhibit table at the UT Health Community Fair. Stop by and learn more about DRTx!
URL:https://drtx.chwebdev.com/en/event/were-exhibiting-at-the-ut-health-community-fair-brownsville/
LOCATION:Bob Clark Social Services Center\, 9901 California Rd\, Brownsville\, TX\, 78521\, United States
END:VEVENT
BEGIN:VEVENT
DTSTART;TZID=America/Chicago:20230304T090000
DTEND;TZID=America/Chicago:20230304T120000
DTSTAMP:20260423T172401
CREATED:20230207T170347Z
LAST-MODIFIED:20230207T170347Z
UID:11234-1677920400-1677931200@drtx.chwebdev.com
SUMMARY:We’re Exhibiting at the Community Resource Fair (San Antonio)
DESCRIPTION:DRTx will host an exhibit table at the Community Resource Fair. Stop by and learn more about DRTx!
URL:https://drtx.chwebdev.com/en/event/were-exhibiting-at-the-community-resource-fair-san-antonio/
LOCATION:Lopez Middle School\, 23103 HARDY OAK BLVD.\, SAN ANTONIO\, TX\, 78258\, United States
END:VEVENT
BEGIN:VEVENT
DTSTART;TZID=America/Chicago:20230309T173000
DTEND;TZID=America/Chicago:20230309T190000
DTSTAMP:20260423T172401
CREATED:20230214T145700Z
LAST-MODIFIED:20230214T145700Z
UID:11288-1678383000-1678388400@drtx.chwebdev.com
SUMMARY:We’re Exhibiting at the Orange Grove ISD Family Night Out School and Community Health Fair (Orange Grove)
DESCRIPTION:DRTx will host an exhibit table at the Orange Grove ISD Family Night Out School and Community Health Fair. Stop by and learn more about DRTx!
URL:https://drtx.chwebdev.com/en/event/were-exhibiting-at-the-orange-grove-isd-family-night-out-school-and-community-health-fair-orange-grove/
LOCATION:Orange Grove High School Gym\, 600 Thiel Street\, Orange Grove\, TX\, 78372\, United States
END:VEVENT
BEGIN:VEVENT
DTSTART;TZID=America/Chicago:20230317T100000
DTEND;TZID=America/Chicago:20230317T140000
DTSTAMP:20260423T172401
CREATED:20230209T113002Z
LAST-MODIFIED:20230209T113002Z
UID:11262-1679047200-1679061600@drtx.chwebdev.com
SUMMARY:Enhancing Community Connections (Lufkin)
DESCRIPTION:At the Enhancing Community Connections event\, you will learn about: \n\nOverview of Disability Rights Texas\nHousing rights of people with disabilities\nAlternatives to guardianship\nCOVID-19 and wellness\n\nParticipants will enjoy a free lunch and maybe win one of several door prizes. \nThe event is free\, but you must RSVP by March 10\, 2023. You can RSVP via phone by calling 409-634-2247 or 409-384-7614\, you can RSVP by emailing Kerri Miller Carr at kcarr@drtx.org. \nFor disability accommodations (e.g.\, sign language interpreters\, alternative formats)\, please contact Kerri Miller Carr via phone (512-407-2752) or email (kcarr@drtx.org) as soon as possible\, no later than March 10\, 2023. \nThis event is sponsored by the Area Agency on Aging of Deep East Texas\, the Deep East Texas Aging and Disability Resource Center (ADRC)\, and Disability Rights Texas.
URL:https://drtx.chwebdev.com/en/event/enhancing-community-connections-lufkin/
LOCATION:Lufkin Convention Center\, 601 North 2nd St\, Lufkin\, TX\, 75904\, United States
END:VEVENT
BEGIN:VEVENT
DTSTART;TZID=America/Chicago:20230322T093000
DTEND;TZID=America/Chicago:20230322T153000
DTSTAMP:20260423T172401
CREATED:20230308T143831Z
LAST-MODIFIED:20230308T143831Z
UID:11390-1679477400-1679499000@drtx.chwebdev.com
SUMMARY:We're Exhibiting at the ADRC Life Conference (Weslaco)
DESCRIPTION:DRTx will host an exhibit table at the ADRC Life Conference. Stop by and learn more about DRTx!
URL:https://drtx.chwebdev.com/en/event/were-exhibiting-at-the-adrc-life-conference-weslaco/
LOCATION:LRGVDC\, 301 W Railroad St.\, Weslaco\, TX\, 78596\, United States
END:VEVENT
BEGIN:VEVENT
DTSTART;TZID=America/Chicago:20230324T090000
DTEND;TZID=America/Chicago:20230324T120000
DTSTAMP:20260423T172401
CREATED:20230308T145418Z
LAST-MODIFIED:20230308T145418Z
UID:11396-1679648400-1679659200@drtx.chwebdev.com
SUMMARY:We’re Exhibiting at the U’Neek & Gifted Resource & Support Workshop (Houston)
DESCRIPTION:DRTx will host an exhibit table at the U’Neek & Gifted Resource & Support Workshop. Stop by and learn more about DRTx!
URL:https://drtx.chwebdev.com/en/event/were-exhibiting-at-the-uneek-gifted-resource-support-workshop-houston/
LOCATION:Metropolitan Multi-Service Center\, 1475 West Gray St.\, Houston\, TX\, 77019\, United States
END:VEVENT
BEGIN:VEVENT
DTSTART;TZID=America/Chicago:20230324T100000
DTEND;TZID=America/Chicago:20230324T120000
DTSTAMP:20260423T172401
CREATED:20230308T144940Z
LAST-MODIFIED:20230308T144940Z
UID:11393-1679652000-1679659200@drtx.chwebdev.com
SUMMARY:We’re Exhibiting at the 1st Annual Loteria and Resource Fair (Carrizo Springs)
DESCRIPTION:DRTx will host an exhibit table at the 1st Annual Loteria and Resource Fair. Stop by and learn more about DRTx!
URL:https://drtx.chwebdev.com/en/event/were-exhibiting-at-the-1st-annual-loteria-and-resource-fair-carrizo-springs/
LOCATION:Carrizo Springs Civic Center\, 405 N. 7th St.\, Carrizo Springs\, TX\, 78834\, United States
END:VEVENT
BEGIN:VEVENT
DTSTART;TZID=America/Chicago:20230324T140000
DTEND;TZID=America/Chicago:20230324T160000
DTSTAMP:20260423T172401
CREATED:20230316T140946Z
LAST-MODIFIED:20230316T140946Z
UID:11481-1679666400-1679673600@drtx.chwebdev.com
SUMMARY:We’re Exhibiting at the Community Health & Resource Fair (Pharr)
DESCRIPTION:DRTx will host an exhibit table at the Community Health & Resource Fair. Stop by and learn more about DRTx!
URL:https://drtx.chwebdev.com/en/event/were-exhibiting-at-the-community-health-resource-fair-pharr/
LOCATION:Sunset Terrace Senior Village\, 701 N. Flag St.\, Pharr\, TX\, 78577\, United States
END:VEVENT
BEGIN:VEVENT
DTSTART;TZID=America/Chicago:20230328T160000
DTEND;TZID=America/Chicago:20230328T190000
DTSTAMP:20260423T172401
CREATED:20230316T143049Z
LAST-MODIFIED:20230316T143049Z
UID:11484-1680019200-1680030000@drtx.chwebdev.com
SUMMARY:We’re Exhibiting at the Sebastian Community Resource Fair (Sebastian)
DESCRIPTION:DRTx will host an exhibit table at the Sebastian Community Resource Fair. Stop by and learn more about DRTx!
URL:https://drtx.chwebdev.com/en/event/were-exhibiting-at-the-sebastian-community-resource-fair-sebastian/
LOCATION:Sebastian Community Center\, 434 W 8th St.\, Sebastian\, TX\, 78594\, United States
END:VEVENT
BEGIN:VEVENT
DTSTART;TZID=America/Chicago:20230329T103000
DTEND;TZID=America/Chicago:20230329T143000
DTSTAMP:20260423T172401
CREATED:20230405T134832Z
LAST-MODIFIED:20230405T134832Z
UID:11636-1680085800-1680100200@drtx.chwebdev.com
SUMMARY:We’re Exhibiting at the Spring Health Fair (Bruni)
DESCRIPTION:DRTx will host an exhibit table at the Spring Health Fair. Stop by and learn more about DRTx!
URL:https://drtx.chwebdev.com/en/event/were-exhibiting-at-the-spring-health-fair-bruni/
LOCATION:Bruni Community Center\, 303 E 12th St.\, Bruni\, TX\, 78344\, United States
END:VEVENT
BEGIN:VEVENT
DTSTART;TZID=America/Chicago:20230329T123000
DTEND;TZID=America/Chicago:20230329T140000
DTSTAMP:20260423T172401
CREATED:20230214T160817Z
LAST-MODIFIED:20230214T160817Z
UID:11305-1680093000-1680098400@drtx.chwebdev.com
SUMMARY:Navigating the New Texas Election Laws: Role of Activity Professionals – Protecting the Resident’s Right to Vote
DESCRIPTION:The free Zoom Forum “Navigating the New Texas Election Laws: Role of Activity Professionals – Protecting the Resident’s Right to Vote” will be held from 12:30-2 p.m. on Wednesday\, March 29. All elections are important whether local\, state\, or national and this forum will offer guidance\, resources\, and tools to support the resident’s right to vote. \nForum Presenters:  \n\nMolly Broadway\, MSW\, Disability Rights Texas\, Training and Technical Support Specialist for Voting Rights\nNatalie Davis\, ACC\, Approved CE Educator for National Certification Council for Activity Professionals\n\nFree 1.5 continuing education hours are available for activity professionals and social workers who register\, attend the forum\, and complete a follow-up evaluation.  \nRegister for Zoom Forum
URL:https://drtx.chwebdev.com/en/event/navigating-the-new-texas-election-laws-role-of-activity-professionals-protecting-the-residents-right-to-vote/
LOCATION:Zoom
END:VEVENT
BEGIN:VEVENT
DTSTART;TZID=America/Chicago:20230330T180000
DTEND;TZID=America/Chicago:20230330T200000
DTSTAMP:20260423T172401
CREATED:20230308T145754Z
LAST-MODIFIED:20230308T145754Z
UID:11399-1680199200-1680206400@drtx.chwebdev.com
SUMMARY:We’re Exhibiting at the Resource Fair (Magnolia)
DESCRIPTION:DRTx will host an exhibit table at the Resource Fair. Stop by and learn more about DRTx!
URL:https://drtx.chwebdev.com/en/event/were-exhibiting-at-the-resource-fair-magnolia/
LOCATION:Magnolia Event Center\, 11659 FM 1488\, Magnolia\, TX\, 77354\, United States
END:VEVENT
END:VCALENDAR