BEGIN:VCALENDAR
VERSION:2.0
PRODID:-//Disability Rights Texas - ECPv6.15.20//NONSGML v1.0//EN
CALSCALE:GREGORIAN
METHOD:PUBLISH
X-WR-CALNAME:Disability Rights Texas
X-ORIGINAL-URL:https://drtx.chwebdev.com
X-WR-CALDESC:Events for Disability Rights Texas
REFRESH-INTERVAL;VALUE=DURATION:PT1H
X-Robots-Tag:noindex
X-PUBLISHED-TTL:PT1H
BEGIN:VTIMEZONE
TZID:America/Chicago
BEGIN:DAYLIGHT
TZOFFSETFROM:-0600
TZOFFSETTO:-0500
TZNAME:CDT
DTSTART:20220313T080000
END:DAYLIGHT
BEGIN:STANDARD
TZOFFSETFROM:-0500
TZOFFSETTO:-0600
TZNAME:CST
DTSTART:20221106T070000
END:STANDARD
BEGIN:DAYLIGHT
TZOFFSETFROM:-0600
TZOFFSETTO:-0500
TZNAME:CDT
DTSTART:20230312T080000
END:DAYLIGHT
BEGIN:STANDARD
TZOFFSETFROM:-0500
TZOFFSETTO:-0600
TZNAME:CST
DTSTART:20231105T070000
END:STANDARD
BEGIN:DAYLIGHT
TZOFFSETFROM:-0600
TZOFFSETTO:-0500
TZNAME:CDT
DTSTART:20240310T080000
END:DAYLIGHT
BEGIN:STANDARD
TZOFFSETFROM:-0500
TZOFFSETTO:-0600
TZNAME:CST
DTSTART:20241103T070000
END:STANDARD
END:VTIMEZONE
BEGIN:VEVENT
DTSTART;TZID=America/Chicago:20230401T090000
DTEND;TZID=America/Chicago:20230401T120000
DTSTAMP:20260423T160223
CREATED:20230308T151425Z
LAST-MODIFIED:20230308T151425Z
UID:11402-1680339600-1680350400@drtx.chwebdev.com
SUMMARY:We’re Exhibiting at the South Texas ISD Medical Professions Spring Campus Showcase (Olmito)
DESCRIPTION:DRTx will host an exhibit table at the South Texas ISD Medical Professions Spring Campus Showcase. Stop by and learn more about DRTx!
URL:https://drtx.chwebdev.com/en/event/were-exhibiting-at-the-south-texas-isd-medical-professions-spring-campus-showcase-olmito/
LOCATION:South Texas ISD Medical Professions\, 10650 N. Expressway 77/83\, Olmito\, TX\, 78575\, United States
END:VEVENT
BEGIN:VEVENT
DTSTART;TZID=America/Chicago:20230401T110000
DTEND;TZID=America/Chicago:20230401T140000
DTSTAMP:20260423T160223
CREATED:20230214T150104Z
LAST-MODIFIED:20230214T150104Z
UID:11291-1680346800-1680357600@drtx.chwebdev.com
SUMMARY:We’re Exhibiting at the Duval County Children’s Spring Festival (San Diego)
DESCRIPTION:DRTx will host an exhibit table at the Duval County Children’s Spring Festival. Stop by and learn more about DRTx!
URL:https://drtx.chwebdev.com/en/event/were-exhibiting-at-the-duval-county-childrens-spring-festival-san-diego/
LOCATION:San Diego Plaza Alcalá\, W Collins Ave.\, San Diego\, TX\, 78384\, United States
END:VEVENT
BEGIN:VEVENT
DTSTART;TZID=America/Chicago:20230414T150000
DTEND;TZID=America/Chicago:20230414T180000
DTSTAMP:20260423T160223
CREATED:20230316T144258Z
LAST-MODIFIED:20230316T144258Z
UID:11490-1681484400-1681495200@drtx.chwebdev.com
SUMMARY:We’re Exhibiting at the Community Health & Resource Fair (Mission)
DESCRIPTION:DRTx will host an exhibit table at the Community Health & Resource Fair. Stop by and learn more about DRTx!
URL:https://drtx.chwebdev.com/en/event/were-exhibiting-at-the-community-health-resource-fair-mission/
LOCATION:Mission\, 722 N Mayberry Rd\, Mission\, TX\, 78572\, United States
END:VEVENT
BEGIN:VEVENT
DTSTART;TZID=America/Chicago:20230415T090000
DTEND;TZID=America/Chicago:20230415T120000
DTSTAMP:20260423T160223
CREATED:20230214T150322Z
LAST-MODIFIED:20230214T150322Z
UID:11294-1681549200-1681560000@drtx.chwebdev.com
SUMMARY:We’re Exhibiting at the UT Rio Grande Valley Health Education Fair (Edinburg)
DESCRIPTION:DRTx will host an exhibit table at the Pachanga Health Fair. Stop by and learn more about DRTx!
URL:https://drtx.chwebdev.com/en/event/were-exhibiting-at-the-ut-rio-grande-valley-health-education-fair-edinburg/
LOCATION:San Carlos Endowment Center\, 230 86th St\, Edinburg\, TX\, 78542\, United States
END:VEVENT
BEGIN:VEVENT
DTSTART;TZID=America/Chicago:20230415T110000
DTEND;TZID=America/Chicago:20230415T130000
DTSTAMP:20260423T160223
CREATED:20230316T144730Z
LAST-MODIFIED:20230316T144730Z
UID:11493-1681556400-1681563600@drtx.chwebdev.com
SUMMARY:We’re Exhibiting at the Children’s Spring Festival (Alice)
DESCRIPTION:DRTx will host an exhibit table at the Children’s Spring Festival. Stop by and learn more about DRTx!
URL:https://drtx.chwebdev.com/en/event/were-exhibiting-at-the-childrens-spring-festival-alice/
LOCATION:Alice Memorial VFW Post\, 2300 N Texas Blvd.\, Alice\, TX\, 78332\, United States
END:VEVENT
BEGIN:VEVENT
DTSTART;TZID=America/Chicago:20230418T110000
DTEND;TZID=America/Chicago:20230418T140000
DTSTAMP:20260423T160223
CREATED:20230405T135159Z
LAST-MODIFIED:20230405T135159Z
UID:11639-1681815600-1681826400@drtx.chwebdev.com
SUMMARY:We’re Exhibiting at the Heart of Texas Health Fair (Belton)
DESCRIPTION:DRTx will host an exhibit table at the Heart of Texas Health Fair. Stop by and learn more about DRTx!
URL:https://drtx.chwebdev.com/en/event/were-exhibiting-at-the-heart-of-texas-health-fair-belton/
LOCATION:Heart of Texas Goodwill Industries\, 2601 Commerce St\, Belton\, TX\, 76513\, United States
END:VEVENT
BEGIN:VEVENT
DTSTART;TZID=America/Chicago:20230421T090000
DTEND;TZID=America/Chicago:20230421T120000
DTSTAMP:20260423T160223
CREATED:20230405T135701Z
LAST-MODIFIED:20230405T135701Z
UID:11642-1682067600-1682078400@drtx.chwebdev.com
SUMMARY:We’re Exhibiting at the Aging & Disability Resource & Wellness Fiesta (Eagle Pass)
DESCRIPTION:DRTx will host an exhibit table at the Aging & Disability Resource & Wellness Fiesta. Stop by and learn more about DRTx!
URL:https://drtx.chwebdev.com/en/event/were-exhibiting-at-the-aging-disability-resource-wellness-fiesta-eagle-pass/
LOCATION:Internationial Center for Trade\, 3295 Bob Rogers Drive\, Eagle Pass\, TX\, 78852\, United States
END:VEVENT
BEGIN:VEVENT
DTSTART;VALUE=DATE:20230422
DTEND;VALUE=DATE:20230423
DTSTAMP:20260423T160223
CREATED:20230214T151013Z
LAST-MODIFIED:20230214T151013Z
UID:11299-1682121600-1682207999@drtx.chwebdev.com
SUMMARY:DRTx Board Meeting
DESCRIPTION:The Disability Rights Texas (DRTx) Board of Directors will hold its quarterly Board Meeting on Saturday\, April 22\, 2023. The meeting will be held from 8:30 am to 3:00 pm at the Dallas Offices of Winston & Strawn located at 2121 North Pearl Street\, Dallas\, Texas 75201. \nAt 9:30 a.m.\, there will be an opportunity for public comment. If you would like to provide public comment\, please arrive by 9:15 am so you can sign in. \nIf you need an accommodation to provide public comment\, please submit your accommodation request to Shirley DeBerry at least 48 hours before the meeting. Contact Shirley at sdeberry@drtx.org or 512-407-2751.
URL:https://drtx.chwebdev.com/en/event/drtx-board-meeting-5/
LOCATION:TX
END:VEVENT
BEGIN:VEVENT
DTSTART;TZID=America/Chicago:20230426T160000
DTEND;TZID=America/Chicago:20230426T190000
DTSTAMP:20260423T160223
CREATED:20230405T140811Z
LAST-MODIFIED:20230405T140811Z
UID:11645-1682524800-1682535600@drtx.chwebdev.com
SUMMARY:We’re Exhibiting at the 1st Annual Dia Del Nino Event (McAllen)
DESCRIPTION:DRTx will host an exhibit table at the 1st Annual Dia Del Nino Event. Stop by and learn more about DRTx!
URL:https://drtx.chwebdev.com/en/event/were-exhibiting-at-the-1st-annual-dia-del-nino-event-mcallen/
LOCATION:Pediatrics Express\, 4501 W Expy 83 Ste 30\,\, McAllen\, TX\, 78501\, United States
END:VEVENT
BEGIN:VEVENT
DTSTART;TZID=America/Chicago:20230427T100000
DTEND;TZID=America/Chicago:20230427T130000
DTSTAMP:20260423T160223
CREATED:20230427T165832Z
LAST-MODIFIED:20230427T165832Z
UID:11784-1682589600-1682600400@drtx.chwebdev.com
SUMMARY:We’re Exhibiting at the CRCIL Health Fair (Crockett)
DESCRIPTION:DRTx will host an exhibit table at the CRCIL Health Fair. Stop by and learn more about DRTx!
URL:https://drtx.chwebdev.com/en/event/were-exhibiting-at-the-crcil-health-fair-crockett/
LOCATION:Crockett Civic Center\, 1100 Edmiston Dr.\, Crockett\, TX\, 75835\, United States
END:VEVENT
BEGIN:VEVENT
DTSTART;TZID=America/Chicago:20230428T083000
DTEND;TZID=America/Chicago:20230428T123000
DTSTAMP:20260423T160223
CREATED:20230308T151814Z
LAST-MODIFIED:20230308T151814Z
UID:11405-1682670600-1682685000@drtx.chwebdev.com
SUMMARY:We’re Exhibiting at the Resource Fair for People with Special Needs (Laredo)
DESCRIPTION:DRTx will host an exhibit table at the Resource Fair for People with Special Needs. Stop by and learn more about DRTx!
URL:https://drtx.chwebdev.com/en/event/were-exhibiting-at-the-resource-fair-for-people-with-special-needs-laredo/
LOCATION:Laredo First Assembly\, 6103 McPherson Rd\, Laredo\, TX\, 78041\, United States
END:VEVENT
BEGIN:VEVENT
DTSTART;TZID=America/Chicago:20230429T100000
DTEND;TZID=America/Chicago:20230429T130000
DTSTAMP:20260423T160223
CREATED:20230316T145012Z
LAST-MODIFIED:20230316T145012Z
UID:11496-1682762400-1682773200@drtx.chwebdev.com
SUMMARY:We’re Exhibiting at Healthy Kids Day (Corpus Christi)
DESCRIPTION:DRTx will host an exhibit table at Healthy Kids Day. Stop by and learn more about DRTx!
URL:https://drtx.chwebdev.com/en/event/were-exhibiting-at-healthy-kids-day-corpus-chisti/
LOCATION:YMCA of the Coastal Bend\, 417 S Upper Broadway\, Corpus Christi\, TX\, 78401\, United States
END:VEVENT
END:VCALENDAR