BEGIN:VCALENDAR
VERSION:2.0
PRODID:-//Disability Rights Texas - ECPv6.15.20//NONSGML v1.0//EN
CALSCALE:GREGORIAN
METHOD:PUBLISH
X-WR-CALNAME:Disability Rights Texas
X-ORIGINAL-URL:https://drtx.chwebdev.com
X-WR-CALDESC:Events for Disability Rights Texas
REFRESH-INTERVAL;VALUE=DURATION:PT1H
X-Robots-Tag:noindex
X-PUBLISHED-TTL:PT1H
BEGIN:VTIMEZONE
TZID:America/Chicago
BEGIN:DAYLIGHT
TZOFFSETFROM:-0600
TZOFFSETTO:-0500
TZNAME:CDT
DTSTART:20220313T080000
END:DAYLIGHT
BEGIN:STANDARD
TZOFFSETFROM:-0500
TZOFFSETTO:-0600
TZNAME:CST
DTSTART:20221106T070000
END:STANDARD
BEGIN:DAYLIGHT
TZOFFSETFROM:-0600
TZOFFSETTO:-0500
TZNAME:CDT
DTSTART:20230312T080000
END:DAYLIGHT
BEGIN:STANDARD
TZOFFSETFROM:-0500
TZOFFSETTO:-0600
TZNAME:CST
DTSTART:20231105T070000
END:STANDARD
BEGIN:DAYLIGHT
TZOFFSETFROM:-0600
TZOFFSETTO:-0500
TZNAME:CDT
DTSTART:20240310T080000
END:DAYLIGHT
BEGIN:STANDARD
TZOFFSETFROM:-0500
TZOFFSETTO:-0600
TZNAME:CST
DTSTART:20241103T070000
END:STANDARD
END:VTIMEZONE
BEGIN:VEVENT
DTSTART;TZID=America/Chicago:20230509T080000
DTEND;TZID=America/Chicago:20230509T160000
DTSTAMP:20260423T143549
CREATED:20230316T150012Z
LAST-MODIFIED:20230316T150012Z
UID:11503-1683619200-1683648000@drtx.chwebdev.com
SUMMARY:We’re Exhibiting at the Bridges Conference (Houston)
DESCRIPTION:DRTx will host an exhibit table at the Bridges Conference. Stop by and learn more about DRTx!
URL:https://drtx.chwebdev.com/en/event/were-exhibiting-at-the-bridges-conference-houston/
LOCATION:Bayou City Event Center\, 9401 Knight Rd.\, Houston\, TX\, 77045\, United States
END:VEVENT
BEGIN:VEVENT
DTSTART;TZID=America/Chicago:20230517T100000
DTEND;TZID=America/Chicago:20230517T140000
DTSTAMP:20260423T143549
CREATED:20230427T170105Z
LAST-MODIFIED:20230427T170105Z
UID:11787-1684317600-1684332000@drtx.chwebdev.com
SUMMARY:We’re Exhibiting at the Senior Health & Education Fair (Whitehouse)
DESCRIPTION:DRTx will host an exhibit table at the Senior Health & Education Fair. Stop by and learn more about DRTx!
URL:https://drtx.chwebdev.com/en/event/were-exhibiting-at-the-senior-health-education-fair-whitehouse/
LOCATION:TASCA Activity Center\, 10495 CR 2167\, Whitehouse\, TX\, United States
END:VEVENT
BEGIN:VEVENT
DTSTART;TZID=America/Chicago:20230518T090000
DTEND;TZID=America/Chicago:20230518T133000
DTSTAMP:20260423T143549
CREATED:20230427T170339Z
LAST-MODIFIED:20230427T170339Z
UID:11790-1684400400-1684416600@drtx.chwebdev.com
SUMMARY:We’re Exhibiting at the Mayfest 2023 Health Fair (Lufkin)
DESCRIPTION:DRTx will host an exhibit table at the Mayfest 2023 Health Fair. Stop by and learn more about DRTx!
URL:https://drtx.chwebdev.com/en/event/were-exhibiting-at-the-mayfest-2023-health-fair-lufkin/
LOCATION:Lufkin Convention Center\, 601 North 2nd St\, Lufkin\, TX\, 75904\, United States
END:VEVENT
BEGIN:VEVENT
DTSTART;TZID=America/Chicago:20230519T090000
DTEND;TZID=America/Chicago:20230519T140000
DTSTAMP:20260423T143549
CREATED:20230405T141307Z
LAST-MODIFIED:20230405T141307Z
UID:11651-1684486800-1684504800@drtx.chwebdev.com
SUMMARY:We’re Exhibiting at the Southeast Texas Stand Down (Orange)
DESCRIPTION:DRTx will host an exhibit table at the Southeast Texas Stand Down. Stop by and learn more about DRTx!
URL:https://drtx.chwebdev.com/en/event/were-exhibiting-at-the-southeast-texas-stand-down-orange/
LOCATION:Orange County Convention and Expo Center\, 11475-A FM 1442\, Orange\, TX\, 77630\, United States
END:VEVENT
BEGIN:VEVENT
DTSTART;TZID=America/Chicago:20230519T160000
DTEND;TZID=America/Chicago:20230519T183000
DTSTAMP:20260423T143549
CREATED:20230405T141126Z
LAST-MODIFIED:20230405T141126Z
UID:11648-1684512000-1684521000@drtx.chwebdev.com
SUMMARY:We’re Exhibiting at the Unwind Your Mind Festival (Lubbock)
DESCRIPTION:DRTx will host an exhibit table at the Unwind Your Mind Festival. Stop by and learn more about DRTx!
URL:https://drtx.chwebdev.com/en/event/were-exhibiting-at-the-unwind-your-mind-festival-lubbock/
LOCATION:Optimist Boys & Girls Club\, 3301 Cornell Street\, Lubbock\, TX\, 78415\, United States
END:VEVENT
BEGIN:VEVENT
DTSTART;TZID=America/Chicago:20230527T110000
DTEND;TZID=America/Chicago:20230527T140000
DTSTAMP:20260423T143549
CREATED:20230427T170646Z
LAST-MODIFIED:20230427T170646Z
UID:11792-1685185200-1685196000@drtx.chwebdev.com
SUMMARY:We’re Exhibiting at PAWS for Mental Health (Corpus Christi)
DESCRIPTION:DRTx will host an exhibit table at PAWS for Mental Health. Stop by and learn more about DRTx!
URL:https://drtx.chwebdev.com/en/event/were-exhibiting-at-paws-for-mental-health-corpus-christi/
LOCATION:Gulf Coast Humane Society\, 3118 Cabaniss Parkway\, Corpus Christi\, TX\, 78415\, United States
END:VEVENT
END:VCALENDAR