BEGIN:VCALENDAR
VERSION:2.0
PRODID:-//Disability Rights Texas - ECPv6.15.20//NONSGML v1.0//EN
CALSCALE:GREGORIAN
METHOD:PUBLISH
X-WR-CALNAME:Disability Rights Texas
X-ORIGINAL-URL:https://drtx.chwebdev.com
X-WR-CALDESC:Events for Disability Rights Texas
REFRESH-INTERVAL;VALUE=DURATION:PT1H
X-Robots-Tag:noindex
X-PUBLISHED-TTL:PT1H
BEGIN:VTIMEZONE
TZID:America/Chicago
BEGIN:DAYLIGHT
TZOFFSETFROM:-0600
TZOFFSETTO:-0500
TZNAME:CDT
DTSTART:20220313T080000
END:DAYLIGHT
BEGIN:STANDARD
TZOFFSETFROM:-0500
TZOFFSETTO:-0600
TZNAME:CST
DTSTART:20221106T070000
END:STANDARD
BEGIN:DAYLIGHT
TZOFFSETFROM:-0600
TZOFFSETTO:-0500
TZNAME:CDT
DTSTART:20230312T080000
END:DAYLIGHT
BEGIN:STANDARD
TZOFFSETFROM:-0500
TZOFFSETTO:-0600
TZNAME:CST
DTSTART:20231105T070000
END:STANDARD
BEGIN:DAYLIGHT
TZOFFSETFROM:-0600
TZOFFSETTO:-0500
TZNAME:CDT
DTSTART:20240310T080000
END:DAYLIGHT
BEGIN:STANDARD
TZOFFSETFROM:-0500
TZOFFSETTO:-0600
TZNAME:CST
DTSTART:20241103T070000
END:STANDARD
END:VTIMEZONE
BEGIN:VEVENT
DTSTART;TZID=America/Chicago:20230603T110000
DTEND;TZID=America/Chicago:20230603T180000
DTSTAMP:20260423T124116
CREATED:20230308T152125Z
LAST-MODIFIED:20230308T152125Z
UID:11408-1685790000-1685815200@drtx.chwebdev.com
SUMMARY:We’re Exhibiting at the LGBTQ Pride Event (Dallas)
DESCRIPTION:DRTx will host an exhibit table at the LGBTQ Pride Event. Stop by and learn more about DRTx!
URL:https://drtx.chwebdev.com/en/event/were-exhibiting-at-the-lgbtq-pride-event-dallas/
LOCATION:Fair Park\, 3809 Grand Ave\, Dallas\, TX\, 75210\, United States
END:VEVENT
BEGIN:VEVENT
DTSTART;TZID=America/Chicago:20230617T110000
DTEND;TZID=America/Chicago:20230617T140000
DTSTAMP:20260423T124116
CREATED:20230308T152411Z
LAST-MODIFIED:20230308T152411Z
UID:11411-1686999600-1687010400@drtx.chwebdev.com
SUMMARY:We’re Exhibiting at the Juneteenth Celebration Health Fair (San Antonio)
DESCRIPTION:DRTx will host an exhibit table at the Juneteenth Celebration Health Fair. Stop by and learn more about DRTx!
URL:https://drtx.chwebdev.com/en/event/were-exhibiting-at-the-juneteenth-celebration-health-fair-san-antonio/
LOCATION:Comanche Park\, 2600 Rigsby Ave.\, San Antonio\, TX\, 78222\, United States
END:VEVENT
BEGIN:VEVENT
DTSTART;TZID=America/Chicago:20230622T090000
DTEND;TZID=America/Chicago:20230622T150000
DTSTAMP:20260423T124116
CREATED:20230606T102226Z
LAST-MODIFIED:20230606T102226Z
UID:12009-1687424400-1687446000@drtx.chwebdev.com
SUMMARY:We’re Exhibiting at the South Texas Senior Summit (San Juan)
DESCRIPTION:DRTx will host an exhibit table at the South Texas Senior Summit. Stop by and learn more about DRTx!
URL:https://drtx.chwebdev.com/en/event/were-exhibiting-at-the-south-texas-senior-summit-san-juan/
LOCATION:Hacienda San Juan\, 522 S Iowa\, San Juan\, TX\, United States
END:VEVENT
BEGIN:VEVENT
DTSTART;TZID=America/Chicago:20230624T100000
DTEND;TZID=America/Chicago:20230624T140000
DTSTAMP:20260423T124116
CREATED:20230616T110233Z
LAST-MODIFIED:20230616T110233Z
UID:12065-1687600800-1687615200@drtx.chwebdev.com
SUMMARY:We’re Exhibiting at the Rock the Block Health and Resource Expo (Houston)
DESCRIPTION:DRTx will host an exhibit table at the Rock the Block Health and Resource Expo. Stop by and learn more about DRTx!
URL:https://drtx.chwebdev.com/en/event/were-exhibiting-at-the-rock-the-block-health-and-resource-expo-houston/
LOCATION:Sunnyside Health and Multi Service Center\, 4410 Reed Rd\, Houston\, TX\, 77051\, United States
END:VEVENT
BEGIN:VEVENT
DTSTART;TZID=America/Chicago:20230624T110000
DTEND;TZID=America/Chicago:20230624T140000
DTSTAMP:20260423T124116
CREATED:20230606T102521Z
LAST-MODIFIED:20230606T102521Z
UID:12012-1687604400-1687615200@drtx.chwebdev.com
SUMMARY:We’re Exhibiting at the It’s Ok to Not Be Ok event (Victoria)
DESCRIPTION:DRTx will host an exhibit table at the It’s Ok to Not Be Ok event. Stop by and learn more about DRTx!
URL:https://drtx.chwebdev.com/en/event/were-exhibiting-at-the-its-ok-to-not-be-ok-event-victoria/
LOCATION:Pattie Dodson Health Center\, 28505 N Navarro\, Victoria\, WI\, 77901\, United States
END:VEVENT
BEGIN:VEVENT
DTSTART;TZID=America/Chicago:20230629T100000
DTEND;TZID=America/Chicago:20230629T130000
DTSTAMP:20260423T124116
CREATED:20230606T103300Z
LAST-MODIFIED:20230606T103300Z
UID:12015-1688032800-1688043600@drtx.chwebdev.com
SUMMARY:We’re Exhibiting at the Flagship Health Veterans Resource Fair (San Antonio)
DESCRIPTION:DRTx will host an exhibit table at the Flagship Health Veterans Resource Fair. Stop by and learn more about DRTx!
URL:https://drtx.chwebdev.com/en/event/were-exhibiting-at-the-flagship-health-veterans-resource-fair-san-antonio/
LOCATION:Flagship Health\, 7616 Culebra Road\, San Antonio\, TX\, 78251\, United States
END:VEVENT
END:VCALENDAR