BEGIN:VCALENDAR
VERSION:2.0
PRODID:-//Disability Rights Texas - ECPv6.15.20//NONSGML v1.0//EN
CALSCALE:GREGORIAN
METHOD:PUBLISH
X-ORIGINAL-URL:https://drtx.chwebdev.com
X-WR-CALDESC:Events for Disability Rights Texas
REFRESH-INTERVAL;VALUE=DURATION:PT1H
X-Robots-Tag:noindex
X-PUBLISHED-TTL:PT1H
BEGIN:VTIMEZONE
TZID:America/Chicago
BEGIN:DAYLIGHT
TZOFFSETFROM:-0600
TZOFFSETTO:-0500
TZNAME:CDT
DTSTART:20220313T080000
END:DAYLIGHT
BEGIN:STANDARD
TZOFFSETFROM:-0500
TZOFFSETTO:-0600
TZNAME:CST
DTSTART:20221106T070000
END:STANDARD
BEGIN:DAYLIGHT
TZOFFSETFROM:-0600
TZOFFSETTO:-0500
TZNAME:CDT
DTSTART:20230312T080000
END:DAYLIGHT
BEGIN:STANDARD
TZOFFSETFROM:-0500
TZOFFSETTO:-0600
TZNAME:CST
DTSTART:20231105T070000
END:STANDARD
BEGIN:DAYLIGHT
TZOFFSETFROM:-0600
TZOFFSETTO:-0500
TZNAME:CDT
DTSTART:20240310T080000
END:DAYLIGHT
BEGIN:STANDARD
TZOFFSETFROM:-0500
TZOFFSETTO:-0600
TZNAME:CST
DTSTART:20241103T070000
END:STANDARD
END:VTIMEZONE
BEGIN:VEVENT
DTSTART;TZID=America/Chicago:20230911T110000
DTEND;TZID=America/Chicago:20230911T130000
DTSTAMP:20260423T084704
CREATED:20230914T152514Z
LAST-MODIFIED:20230914T152514Z
UID:12780-1694430000-1694437200@drtx.chwebdev.com
SUMMARY:We’re Exhibiting at the Day of Remembrance Event (Beaumont)
DESCRIPTION:DRTx will host an exhibit table at the Day of Remembrance Event at The Arc of Greater Beaumont. Stop by and learn more about DRTx!
URL:https://drtx.chwebdev.com/en/event/were-exhibiting-at-the-day-of-remembrance-event-beaumont/
LOCATION:The Arc of Greater Beaumont\, 4330 Westridge Lane\, Beaumont\, Texas\, 77706
END:VEVENT
BEGIN:VEVENT
DTSTART;TZID=America/Chicago:20230916T090000
DTEND;TZID=America/Chicago:20230916T123000
DTSTAMP:20260423T084704
CREATED:20230726T092448Z
LAST-MODIFIED:20230726T092448Z
UID:12284-1694854800-1694867400@drtx.chwebdev.com
SUMMARY:We’re Exhibiting at the Daingerfield Area Health Fair (Daingerfield)
DESCRIPTION:DRTx will host an exhibit table at the Daingerfield Area Health Fair. Stop by and learn more about DRTx!
URL:https://drtx.chwebdev.com/en/event/were-exhibiting-at-the-daingerfield-area-health-fair-daingerfield/
LOCATION:Daingerfield High School\, 202 Tiger Drive\, Daingerfield\, TX\, 75638\, United States
END:VEVENT
BEGIN:VEVENT
DTSTART;TZID=America/Chicago:20230921T163000
DTEND;TZID=America/Chicago:20230921T193000
DTSTAMP:20260423T084704
CREATED:20230814T090315Z
LAST-MODIFIED:20230814T090315Z
UID:12443-1695313800-1695324600@drtx.chwebdev.com
SUMMARY:Celebrating Community Connections (Uvalde)
DESCRIPTION:Celebrating Community Connections: A Community Resource and Information Fair will be held from 4:30-7:30 p.m. on Thursday\, September 21. The event will be at the Uvalde County Fairplex\, Stardust Pavilion\, 215 Veterans Lane.  \nThere will be: \n\ninformation and resources from local organizations\,\na table decorating contest\,\na contest for best Mexican attire and grito\, and\na chance to win raffle prizes.\n\nThe event will be hosted by Disability Rights Texas and the South Texas Aging & Disability Resource Center. \nIf you would like to exhibit at this event\, email mbarrah@stdc.cog.tx.us or vflores@stdc.cog.tx.us. \nMore information about the event will be available soon.
URL:https://drtx.chwebdev.com/en/event/celebrating-community-connections-uvalde/
LOCATION:Uvalde County Fairplex\, Stardust Pavilion\, 215 Veterans Lane\, Uvalde\, TX\, 78801\, United States
END:VEVENT
BEGIN:VEVENT
DTSTART;VALUE=DATE:20230923
DTEND;VALUE=DATE:20230924
DTSTAMP:20260423T084704
CREATED:20230214T151147Z
LAST-MODIFIED:20230214T151147Z
UID:11303-1695427200-1695513599@drtx.chwebdev.com
SUMMARY:DRTx Board Meeting
DESCRIPTION:The Disability Rights Texas (DRTx) Board of Directors will hold its quarterly meeting on Saturday\, September 23\, 2023. The meeting will be held from 8:30 am to 3:00 pm at the Austin DRTx office at 2222 West Braker Lane\, Austin\, Texas. \nThe public is invited to register to provide comment during each meeting. To sign up\, please contact us at least 24 hours prior to each meeting by emailing sdeberry@DRTx.org or call 512-454-4816 and ask for Shirley who will provide details on the time on the agenda for public comment and other instructions. If you need an accommodation to provide public comment\, please email or call Shirley at least 48 hours before the meeting.
URL:https://drtx.chwebdev.com/en/event/drtx-board-meeting-7/
LOCATION:TX
END:VEVENT
BEGIN:VEVENT
DTSTART;TZID=America/Chicago:20230926T090000
DTEND;TZID=America/Chicago:20230926T140000
DTSTAMP:20260423T084704
CREATED:20230818T170214Z
LAST-MODIFIED:20230818T170214Z
UID:12483-1695718800-1695736800@drtx.chwebdev.com
SUMMARY:We’re Exhibiting at the Senior Expo (Carthage)
DESCRIPTION:DRTx will host an exhibit table at the Senior Expo. Stop by and learn more about DRTx!
URL:https://drtx.chwebdev.com/en/event/were-exhibiting-at-the-senior-expo-carthage/
LOCATION:Carthage Civic Center\, 1702 S Adams St\, Carthage\, Texas\, 75633\, Estados Unidos
END:VEVENT
BEGIN:VEVENT
DTSTART;TZID=America/Chicago:20230930T090000
DTEND;TZID=America/Chicago:20230930T130000
DTSTAMP:20260423T084704
CREATED:20230914T152809Z
LAST-MODIFIED:20230914T152809Z
UID:12782-1696064400-1696078800@drtx.chwebdev.com
SUMMARY:We’re Exhibiting at the Mayor Turner Disability Celebration (Houston)
DESCRIPTION:DRTx will host an exhibit table at the Mayor Turner Disability Celebration. Stop by and learn more about DRTx!
URL:https://drtx.chwebdev.com/en/event/were-exhibiting-at-the-mayor-turner-disability-celebration-houston/
LOCATION:Metropolitan Multi-Service Center\, 1475 West Gray St.\, Houston\, TX\, 77019\, United States
END:VEVENT
END:VCALENDAR