BEGIN:VCALENDAR
VERSION:2.0
PRODID:-//Disability Rights Texas - ECPv6.15.20//NONSGML v1.0//EN
CALSCALE:GREGORIAN
METHOD:PUBLISH
X-ORIGINAL-URL:https://drtx.chwebdev.com
X-WR-CALDESC:Events for Disability Rights Texas
REFRESH-INTERVAL;VALUE=DURATION:PT1H
X-Robots-Tag:noindex
X-PUBLISHED-TTL:PT1H
BEGIN:VTIMEZONE
TZID:America/Chicago
BEGIN:DAYLIGHT
TZOFFSETFROM:-0600
TZOFFSETTO:-0500
TZNAME:CDT
DTSTART:20220313T080000
END:DAYLIGHT
BEGIN:STANDARD
TZOFFSETFROM:-0500
TZOFFSETTO:-0600
TZNAME:CST
DTSTART:20221106T070000
END:STANDARD
BEGIN:DAYLIGHT
TZOFFSETFROM:-0600
TZOFFSETTO:-0500
TZNAME:CDT
DTSTART:20230312T080000
END:DAYLIGHT
BEGIN:STANDARD
TZOFFSETFROM:-0500
TZOFFSETTO:-0600
TZNAME:CST
DTSTART:20231105T070000
END:STANDARD
BEGIN:DAYLIGHT
TZOFFSETFROM:-0600
TZOFFSETTO:-0500
TZNAME:CDT
DTSTART:20240310T080000
END:DAYLIGHT
BEGIN:STANDARD
TZOFFSETFROM:-0500
TZOFFSETTO:-0600
TZNAME:CST
DTSTART:20241103T070000
END:STANDARD
END:VTIMEZONE
BEGIN:VEVENT
DTSTART;TZID=America/Chicago:20231104T110000
DTEND;TZID=America/Chicago:20231104T140000
DTSTAMP:20260423T055623
CREATED:20231026T135003Z
LAST-MODIFIED:20231026T135003Z
UID:13182-1699095600-1699106400@drtx.chwebdev.com
SUMMARY:We’re Exhibiting at the REAL Inc Fall Community Health Fair (Alice)
DESCRIPTION:DRTx will host an exhibit table at the REAL Inc Fall Community Health Fair. Stop by and learn more about DRTx!
URL:https://drtx.chwebdev.com/en/event/were-exhibiting-at-the-real-inc-fall-community-health-fair-alice/
LOCATION:Heldt Park\, 612 E Main Street\, Alice\, Texas\, 78332\, Estados Unidos
END:VEVENT
BEGIN:VEVENT
DTSTART;TZID=America/Chicago:20231107T120000
DTEND;TZID=America/Chicago:20231107T140000
DTSTAMP:20260423T055623
CREATED:20231026T141345Z
LAST-MODIFIED:20231026T141345Z
UID:13185-1699358400-1699365600@drtx.chwebdev.com
SUMMARY:Vaccine Clinic: Wheeler
DESCRIPTION:A free vaccine clinic will be held from 12-2 p.m. on Tuesday\, November 7\, in Wheeler. Attendees will have access to free flu and COVID-19 vaccinations. \nThe clinic will be co-hosted by Disability Rights Texas\, the Texas A&M AgriLife Extension in Wheeler County\, and the Panhandle Independent Living Center. \nLearn more about our Vaccine Project.
URL:https://drtx.chwebdev.com/en/event/vaccine-clinic-wheeler/
LOCATION:Wheeler County Extension Office\, 7939 US Hwy 83\, Wheeler\, TX\, 79096\, United States
END:VEVENT
BEGIN:VEVENT
DTSTART;TZID=America/Chicago:20231113T120000
DTEND;TZID=America/Chicago:20231113T140000
DTSTAMP:20260423T055623
CREATED:20231026T152540Z
LAST-MODIFIED:20231026T152540Z
UID:13200-1699876800-1699884000@drtx.chwebdev.com
SUMMARY:Vaccine Clinic: Amarillo
DESCRIPTION:A free vaccine clinic will be held from 12-2 p.m. on Monday\, November 13\, in Amarillo. Attendees will have access to free flu and COVID-19 vaccinations. \nThe clinic will be co-hosted by Disability Rights Texas and the Panhandle Independent Living Center. \nLearn more about our Vaccine Project.
URL:https://drtx.chwebdev.com/en/event/vaccine-clinic-amarillo/
LOCATION:Panhandle Independent Living Center\, 417 SW 10 AVE\, Amarillo\, Texas\, 79101\, Estados Unidos
END:VEVENT
BEGIN:VEVENT
DTSTART;TZID=America/Chicago:20231117T160000
DTEND;TZID=America/Chicago:20231117T180000
DTSTAMP:20260423T055623
CREATED:20231026T143604Z
LAST-MODIFIED:20231026T143604Z
UID:13188-1700236800-1700244000@drtx.chwebdev.com
SUMMARY:We’re Exhibiting at the Pachange Health Fair (Edinburg)
DESCRIPTION:DRTx will host an exhibit table at the Pachange Health Fair. Stop by and learn more about DRTx!
URL:https://drtx.chwebdev.com/en/event/were-exhibiting-at-the-pachange-health-fair-edinburg/
LOCATION:TX
END:VEVENT
END:VCALENDAR