BEGIN:VCALENDAR
VERSION:2.0
PRODID:-//Disability Rights Texas - ECPv6.15.20//NONSGML v1.0//EN
CALSCALE:GREGORIAN
METHOD:PUBLISH
X-WR-CALNAME:Disability Rights Texas
X-ORIGINAL-URL:https://drtx.chwebdev.com
X-WR-CALDESC:Events for Disability Rights Texas
REFRESH-INTERVAL;VALUE=DURATION:PT1H
X-Robots-Tag:noindex
X-PUBLISHED-TTL:PT1H
BEGIN:VTIMEZONE
TZID:America/Chicago
BEGIN:DAYLIGHT
TZOFFSETFROM:-0600
TZOFFSETTO:-0500
TZNAME:CDT
DTSTART:20230312T080000
END:DAYLIGHT
BEGIN:STANDARD
TZOFFSETFROM:-0500
TZOFFSETTO:-0600
TZNAME:CST
DTSTART:20231105T070000
END:STANDARD
BEGIN:DAYLIGHT
TZOFFSETFROM:-0600
TZOFFSETTO:-0500
TZNAME:CDT
DTSTART:20240310T080000
END:DAYLIGHT
BEGIN:STANDARD
TZOFFSETFROM:-0500
TZOFFSETTO:-0600
TZNAME:CST
DTSTART:20241103T070000
END:STANDARD
BEGIN:DAYLIGHT
TZOFFSETFROM:-0600
TZOFFSETTO:-0500
TZNAME:CDT
DTSTART:20250309T080000
END:DAYLIGHT
BEGIN:STANDARD
TZOFFSETFROM:-0500
TZOFFSETTO:-0600
TZNAME:CST
DTSTART:20251102T070000
END:STANDARD
END:VTIMEZONE
BEGIN:VEVENT
DTSTART;TZID=America/Chicago:20240504T090000
DTEND;TZID=America/Chicago:20240504T150000
DTSTAMP:20260422T210732
CREATED:20240313T155640Z
LAST-MODIFIED:20240313T155640Z
UID:13925-1714813200-1714834800@drtx.chwebdev.com
SUMMARY:Disaster Readiness and Resilience Clinic: Plan+Prepare (Houston)
DESCRIPTION:People with disabilities in the Houston area are invited to participate in a free disaster preparedness and resilience clinic on Saturday\, May 4. Participants will be more disaster ready and leave the clinic with their own personal preparedness plan and a free weather radio. \nWhen you arrive\, you’ll receive your own personal preparedness workbook that you’ll complete during the clinic. Navigators will be available to help you with your workbook and guide you through the clinic. Representatives from local organizations will also be there to answer your disaster-related questions and talk about how they can support you before\, during\, and after a disaster. \nDetails\nThis free event will be from 9 a.m. to 3 p.m. on Saturday\, May 4\, at the Metropolitan/West Gray Multi-Service Center\, 1475 West Gray Street\, Houston\, TX 77019. \nYou should plan to be there for 1 to 1.5 hours. Registration is encouraged\, but walk-ins are also welcome. \nQuestions?\nIf you have questions about the clinic\, contact Jackie Miller at jackie.miller@houstontx.gov or 832.393.0922.
URL:https://drtx.chwebdev.com/en/event/disaster-readiness-and-resilience-clinic-plan-prepare-houston/
LOCATION:TX
END:VEVENT
BEGIN:VEVENT
DTSTART;TZID=America/Chicago:20240509T093000
DTEND;TZID=America/Chicago:20240509T160000
DTSTAMP:20260422T210732
CREATED:20240501T111111Z
LAST-MODIFIED:20240501T111111Z
UID:14103-1715247000-1715270400@drtx.chwebdev.com
SUMMARY:We’re Exhibiting at the All Of Us Journey Bus & ADA Anniversary Caravan Week (Houston)
DESCRIPTION:DRTx will host an exhibit table at the All Of Us Journey Bus & ADA Anniversary Caravan Week. Stop by and learn more about DRTx!
URL:https://drtx.chwebdev.com/en/event/all-of-us-journey-bus-ada-anniversary-caravan-week/
LOCATION:Metropolitan MultiService Center\, 1475 West Gray St.\, Houston\, TX\, 77019\, United States
END:VEVENT
BEGIN:VEVENT
DTSTART;TZID=America/Chicago:20240510T093000
DTEND;TZID=America/Chicago:20240510T160000
DTSTAMP:20260422T210732
CREATED:20240501T111641Z
LAST-MODIFIED:20240501T111641Z
UID:14106-1715333400-1715356800@drtx.chwebdev.com
SUMMARY:We’re Exhibiting at the All Of Us Journey Bus & ADA Anniversary Caravan Week (Houston)
DESCRIPTION:DRTx will host an exhibit table at the All Of Us Journey Bus & ADA Anniversary Caravan Week. Stop by and learn more about DRTx!
URL:https://drtx.chwebdev.com/en/event/were-exhibiting-at-the-all-of-us-journey-bus-ada-anniversary-caravan-week-houston/
LOCATION:Metropolitan MultiService Center\, 1475 West Gray St.\, Houston\, TX\, 77019\, United States
END:VEVENT
BEGIN:VEVENT
DTSTART;TZID=America/Chicago:20240511T110000
DTEND;TZID=America/Chicago:20240511T140000
DTSTAMP:20260422T210732
CREATED:20240501T112036Z
LAST-MODIFIED:20240501T112036Z
UID:14108-1715425200-1715436000@drtx.chwebdev.com
SUMMARY:We’re Exhibiting at Wellness Starts with You (Houston)
DESCRIPTION:DRTx will host an exhibit table at Wellness Starts with You. Stop by and learn more about DRTx!
URL:https://drtx.chwebdev.com/en/event/were-exhibiting-at-wellness-starts-with-you-houston/
LOCATION:Houston Public Library Central Branch\, 500 McKinney St.\, Houston\, TX\, 77002\, United States
END:VEVENT
BEGIN:VEVENT
DTSTART;TZID=America/Chicago:20240516T090000
DTEND;TZID=America/Chicago:20240516T140000
DTSTAMP:20260422T210732
CREATED:20240501T112400Z
LAST-MODIFIED:20240501T112400Z
UID:14111-1715850000-1715868000@drtx.chwebdev.com
SUMMARY:We’re Exhibiting at the South Texas Senior Summit (Hidalgo County)
DESCRIPTION:DRTx will host an exhibit table at the South Texas Senior Summit. Stop by and learn more about DRTx!
URL:https://drtx.chwebdev.com/en/event/south-texas-senior-summit/
LOCATION:Hacienda Event Center\, 522 S. Iowa St.\, San Juan\, TX\, United States
END:VEVENT
END:VCALENDAR