BEGIN:VCALENDAR
VERSION:2.0
PRODID:-//Disability Rights Texas - ECPv6.15.20//NONSGML v1.0//EN
CALSCALE:GREGORIAN
METHOD:PUBLISH
X-ORIGINAL-URL:https://drtx.chwebdev.com
X-WR-CALDESC:Events for Disability Rights Texas
REFRESH-INTERVAL;VALUE=DURATION:PT1H
X-Robots-Tag:noindex
X-PUBLISHED-TTL:PT1H
BEGIN:VTIMEZONE
TZID:America/Chicago
BEGIN:DAYLIGHT
TZOFFSETFROM:-0600
TZOFFSETTO:-0500
TZNAME:CDT
DTSTART:20230312T080000
END:DAYLIGHT
BEGIN:STANDARD
TZOFFSETFROM:-0500
TZOFFSETTO:-0600
TZNAME:CST
DTSTART:20231105T070000
END:STANDARD
BEGIN:DAYLIGHT
TZOFFSETFROM:-0600
TZOFFSETTO:-0500
TZNAME:CDT
DTSTART:20240310T080000
END:DAYLIGHT
BEGIN:STANDARD
TZOFFSETFROM:-0500
TZOFFSETTO:-0600
TZNAME:CST
DTSTART:20241103T070000
END:STANDARD
BEGIN:DAYLIGHT
TZOFFSETFROM:-0600
TZOFFSETTO:-0500
TZNAME:CDT
DTSTART:20250309T080000
END:DAYLIGHT
BEGIN:STANDARD
TZOFFSETFROM:-0500
TZOFFSETTO:-0600
TZNAME:CST
DTSTART:20251102T070000
END:STANDARD
END:VTIMEZONE
BEGIN:VEVENT
DTSTART;TZID=America/Chicago:20241102T110000
DTEND;TZID=America/Chicago:20241102T140000
DTSTAMP:20260424T103441
CREATED:20241101T145814Z
LAST-MODIFIED:20241101T145814Z
UID:15157-1730545200-1730556000@drtx.chwebdev.com
SUMMARY:We’re Exhibiting at the Bridge Church Health & Resource Fair (Houston)
DESCRIPTION:DRTx will host an exhibit table at the Bridge Church Health & Resource Fair. Stop by and learn more about DRTx!
URL:https://drtx.chwebdev.com/en/event/were-exhibiting-at-the-bridge-church-health-resource-fair-houston/
LOCATION:522 W. Gulf Bank\, Houston\, TX 77037\, 522 W. Gulf Bank\, Houston\, TX\, 77037\, United States
END:VEVENT
BEGIN:VEVENT
DTSTART;TZID=America/Chicago:20241120T090000
DTEND;TZID=America/Chicago:20241120T140000
DTSTAMP:20260424T103441
CREATED:20241101T153325Z
LAST-MODIFIED:20241101T153325Z
UID:15167-1732093200-1732111200@drtx.chwebdev.com
SUMMARY:We’re Exhibiting at ESC Region 17's Job Jamboree (Lubbock)
DESCRIPTION:DRTx will host an exhibit table at ESC Region 17’s Job Jamboree. Stop by and learn more about DRTx! To learn more and register\, visit the Job Jamboree webpage.
URL:https://drtx.chwebdev.com/en/event/were-exhibiting-at-esc-region-17s-job-jamboree-lubbock/
LOCATION:Region 17 Education Service Center\, 1111 West Loop 289\, Lubbock\, TX\, 79416\, United States
END:VEVENT
BEGIN:VEVENT
DTSTART;TZID=America/Chicago:20241123T100000
DTEND;TZID=America/Chicago:20241123T140000
DTSTAMP:20260424T103441
CREATED:20241115T084155Z
LAST-MODIFIED:20241115T084155Z
UID:15235-1732356000-1732370400@drtx.chwebdev.com
SUMMARY:We’re Exhibiting at the Compassion United Resource Fair (Conroe)
DESCRIPTION:DRTx will host an exhibit table at the Compassion United Resource Fair. Stop by and learn more about DRTx!
URL:https://drtx.chwebdev.com/en/event/were-exhibiting-at-the-compassion-united-resource-fair-conroe/
LOCATION:Lewis Park\, 501 Park Pl\, Conroe\, TX\, 77301\, United States
END:VEVENT
END:VCALENDAR