BEGIN:VCALENDAR
VERSION:2.0
PRODID:-//Disability Rights Texas - ECPv6.15.20//NONSGML v1.0//EN
CALSCALE:GREGORIAN
METHOD:PUBLISH
X-ORIGINAL-URL:https://drtx.chwebdev.com
X-WR-CALDESC:Eventos para Disability Rights Texas
REFRESH-INTERVAL;VALUE=DURATION:PT1H
X-Robots-Tag:noindex
X-PUBLISHED-TTL:PT1H
BEGIN:VTIMEZONE
TZID:America/Chicago
BEGIN:DAYLIGHT
TZOFFSETFROM:-0600
TZOFFSETTO:-0500
TZNAME:CDT
DTSTART:20210314T080000
END:DAYLIGHT
BEGIN:STANDARD
TZOFFSETFROM:-0500
TZOFFSETTO:-0600
TZNAME:CST
DTSTART:20211107T070000
END:STANDARD
BEGIN:DAYLIGHT
TZOFFSETFROM:-0600
TZOFFSETTO:-0500
TZNAME:CDT
DTSTART:20220313T080000
END:DAYLIGHT
BEGIN:STANDARD
TZOFFSETFROM:-0500
TZOFFSETTO:-0600
TZNAME:CST
DTSTART:20221106T070000
END:STANDARD
BEGIN:DAYLIGHT
TZOFFSETFROM:-0600
TZOFFSETTO:-0500
TZNAME:CDT
DTSTART:20230312T080000
END:DAYLIGHT
BEGIN:STANDARD
TZOFFSETFROM:-0500
TZOFFSETTO:-0600
TZNAME:CST
DTSTART:20231105T070000
END:STANDARD
END:VTIMEZONE
BEGIN:VEVENT
DTSTART;VALUE=DATE:20220604
DTEND;VALUE=DATE:20220605
DTSTAMP:20260424T090252
CREATED:20220516T134115Z
LAST-MODIFIED:20220516T134115Z
UID:9655-1654300800-1654387199@drtx.chwebdev.com
SUMMARY:Clínicas de Vacunación Aptas para el Autismo (Houston)
DESCRIPTION:Vamos a ofrecer Clínicas de Vacunación aptas para el Autismo el 4 de Junio y el 9 de Julio en Kyo localizado en 12280 Broadway Street\, Suite 1107\, Pearland\, TX 77584. Las vacunas serán proveídas por el Departamento de Salud Pública de Houston.
URL:https://drtx.chwebdev.com/es/event/clinicas-de-vacunacion-aptas-para-el-autismo-houston/
LOCATION:Kyo\, 12280 Broadway Street\, Suite 1107\, Pearland\, TX\, 77584\, United States
END:VEVENT
BEGIN:VEVENT
DTSTART;VALUE=DATE:20220611
DTEND;VALUE=DATE:20220612
DTSTAMP:20260424T090252
CREATED:20220516T134954Z
LAST-MODIFIED:20220516T134954Z
UID:9664-1654905600-1654991999@drtx.chwebdev.com
SUMMARY:Clínicas de Vacunación Aptas para el Autismo (San Antonio)
DESCRIPTION:Vamos a ofrecer clínicas de vacunación aptas para el Autismo el 11 de Junio en el Autism Treatment Center localizado en: 15911 Nacogdoches Rd. Las vacunas serán proveídas por el Distrito de Salud del Area Metropolitana de San Antonio.
URL:https://drtx.chwebdev.com/es/event/clinicas-de-vacunacion-aptas-para-el-autismo-san-antonio/
LOCATION:Autism Treatment Center (San Antonio)\, 15911 Nacogdoches Rd.\, Bldg 2\, San Antonio\, TX\, 78247\, United States
END:VEVENT
BEGIN:VEVENT
DTSTART;VALUE=DATE:20220618
DTEND;VALUE=DATE:20220619
DTSTAMP:20260424T090252
CREATED:20220516T132135Z
LAST-MODIFIED:20220516T132135Z
UID:9637-1655510400-1655596799@drtx.chwebdev.com
SUMMARY:Clínicas de Vacunación Aptas para el Autismo (Austin)
DESCRIPTION:Vamos a ofrecer Clínicas de Vacunación aptas para el Autismo el 18 de Junio y el 23 de Julio en Spark Learning Center localizado en 2517 Enfield Road\, Austin\, TX 78703. Las vacunas serán proveídas por el Departamento de Salud Pública de Austin.
URL:https://drtx.chwebdev.com/es/event/clinicas-de-vacunacion-aptas-para-el-autismo-austin/
LOCATION:Spark Learning Center\, 2517 Enfield Road\, Austin\, TX\, 78703\, United States
END:VEVENT
END:VCALENDAR