BEGIN:VCALENDAR
VERSION:2.0
PRODID:-//Disability Rights Texas - ECPv6.15.20//NONSGML v1.0//EN
CALSCALE:GREGORIAN
METHOD:PUBLISH
X-ORIGINAL-URL:https://drtx.chwebdev.com
X-WR-CALDESC:Eventos para Disability Rights Texas
REFRESH-INTERVAL;VALUE=DURATION:PT1H
X-Robots-Tag:noindex
X-PUBLISHED-TTL:PT1H
BEGIN:VTIMEZONE
TZID:America/Chicago
BEGIN:DAYLIGHT
TZOFFSETFROM:-0600
TZOFFSETTO:-0500
TZNAME:CDT
DTSTART:20220313T080000
END:DAYLIGHT
BEGIN:STANDARD
TZOFFSETFROM:-0500
TZOFFSETTO:-0600
TZNAME:CST
DTSTART:20221106T070000
END:STANDARD
BEGIN:DAYLIGHT
TZOFFSETFROM:-0600
TZOFFSETTO:-0500
TZNAME:CDT
DTSTART:20230312T080000
END:DAYLIGHT
BEGIN:STANDARD
TZOFFSETFROM:-0500
TZOFFSETTO:-0600
TZNAME:CST
DTSTART:20231105T070000
END:STANDARD
BEGIN:DAYLIGHT
TZOFFSETFROM:-0600
TZOFFSETTO:-0500
TZNAME:CDT
DTSTART:20240310T080000
END:DAYLIGHT
BEGIN:STANDARD
TZOFFSETFROM:-0500
TZOFFSETTO:-0600
TZNAME:CST
DTSTART:20241103T070000
END:STANDARD
END:VTIMEZONE
BEGIN:VEVENT
DTSTART;TZID=America/Chicago:20231104T110000
DTEND;TZID=America/Chicago:20231104T140000
DTSTAMP:20260423T044838
CREATED:20231026T151411Z
LAST-MODIFIED:20231026T151411Z
UID:13196-1699095600-1699106400@drtx.chwebdev.com
SUMMARY:Estamos exhibiendo en la REAL Inc Fall Community Health Fair (Alice)
DESCRIPTION:DRTx organizará una mesa de exhibición en la REAL Inc Fall Community Health Fair. ¡Visítanos y aprende más sobre DRTx! \nEn el evento\, personal que habla español estará en la mesa de exhibición de DRTx y tendremos materiales impresados y disponibles en español. Sin embargo\, no sabemos qué proporcionarán otros proveedores en el evento.
URL:https://drtx.chwebdev.com/es/event/estamos-exhibiendo-en-la-real-inc-fall-community-health-fair-alice/
LOCATION:Heldt Park\, 612 E Main Street\, Alice\, Texas\, 78332\, Estados Unidos
END:VEVENT
BEGIN:VEVENT
DTSTART;TZID=America/Chicago:20231113T120000
DTEND;TZID=America/Chicago:20231113T140000
DTSTAMP:20260423T044838
CREATED:20231026T161805Z
LAST-MODIFIED:20231026T161805Z
UID:13208-1699876800-1699884000@drtx.chwebdev.com
SUMMARY:Clínica de Vacunas: Amarillo
DESCRIPTION:Se llevará a cabo una clínica de vacunación gratuita de las 12 a 2 p.m. el miércoles 13 de noviembre\, en Amarillo. Los asistentes tendrán acceso a vacunas gratuitas contra la gripe y el COVID-19. \nLa clínica será organizada conjuntamente por Disability Rights Texas y el Panhandle Independent Living Center. \nAprenda más sobre nuestro Proyecto de Vacunas.
URL:https://drtx.chwebdev.com/es/event/clinica-de-vacunas-amarillo/
LOCATION:Panhandle Independent Living Center\, 417 SW 10 AVE\, Amarillo\, Texas\, 79101\, Estados Unidos
END:VEVENT
BEGIN:VEVENT
DTSTART;TZID=America/Chicago:20231117T160000
DTEND;TZID=America/Chicago:20231117T180000
DTSTAMP:20260423T044838
CREATED:20231026T151721Z
LAST-MODIFIED:20231026T151721Z
UID:13198-1700236800-1700244000@drtx.chwebdev.com
SUMMARY:Estamos exhibiendo en la Pachange Health Fair (Ediburg)
DESCRIPTION:DRTx organizará una mesa de exhibición en la Pachange Health Fair. ¡Visítanos y aprende más sobre DRTx! \nEn el evento\, personal que habla español estará en la mesa de exhibición de DRTx y tendremos materiales impresados y disponibles en español. Sin embargo\, no sabemos qué proporcionarán otros proveedores en el evento.
URL:https://drtx.chwebdev.com/es/event/estamos-exhibiendo-en-la-pachange-health-fair-ediburg/
END:VEVENT
END:VCALENDAR